BEGIN:VCALENDAR
VERSION:2.0
PRODID:-//SolaGratia - ECPv6.13.2.1//NONSGML v1.0//EN
CALSCALE:GREGORIAN
METHOD:PUBLISH
X-WR-CALNAME:SolaGratia
X-ORIGINAL-URL:https://www.solagratia.com.br
X-WR-CALDESC:Eventos para SolaGratia
REFRESH-INTERVAL;VALUE=DURATION:PT1H
X-Robots-Tag:noindex
X-PUBLISHED-TTL:PT1H
BEGIN:VTIMEZONE
TZID:UTC
BEGIN:STANDARD
TZOFFSETFROM:+0000
TZOFFSETTO:+0000
TZNAME:UTC
DTSTART:20230101T000000
END:STANDARD
END:VTIMEZONE
BEGIN:VEVENT
DTSTART;TZID=UTC:20250912T080000
DTEND;TZID=UTC:20250914T090000
DTSTAMP:20260423T155058
CREATED:20250822T184839Z
LAST-MODIFIED:20250822T184839Z
UID:24782-1757664000-1757840400@www.solagratia.com.br
SUMMARY:CONGRESSO LITERATURA COM PROPÓSITO 2022
DESCRIPTION:DATA: 12 a 14 de Setembro de 2024\n           Início: 12/09 – Jantar\n           Término: 14/09 – Café da Manhã \nTEMA:  A Sã Doutrina\n \nPRELETOR: Glenio Fonseca Paranaguá\nLocal: Acampamento Canaã (Londrina – PR) \nVALOR DA INSCRIÇÃO: R$ 200\,00\nInscrições até o dia 05/09 ou enquanto durarem as vagas. \nCLIQUE AQUI PARA SE INSCREVER \nOBSERVAÇÃO:\n\n– CADA INSCRITO RECEBERÁ UM EXEMPLAR DO LIVRO A TOALHA E A BACIA\, PARA PODER LÊ-LO ANTES DO EVENTO.\n\n\nMais Informações: (43) 99184-1208 (WhatsApp)
URL:https://www.solagratia.com.br/evento/congresso-literatura-com-proposito-2025/
CATEGORIES:Eventos
ATTACH;FMTTYPE=image/png:https://www.solagratia.com.br/wp-content/uploads/2025/08/Literatura-com-proposito-2025.png
END:VEVENT
BEGIN:VEVENT
DTSTART;TZID=UTC:20250131T080000
DTEND;TZID=UTC:20250202T140000
DTSTAMP:20260423T155058
CREATED:20241106T023219Z
LAST-MODIFIED:20241113T180634Z
UID:24573-1738310400-1738504800@www.solagratia.com.br
SUMMARY:CONGRESSO DO NOVO NASCIMENTO 2025
DESCRIPTION:CONGRESSO DO NOVO NASCIMENTO 2025Dos dias 31 de Janeiro a 02 de Fevereiro de 2025 \nPreletor: Pr. Glenio Paranaguá \nValor das Inscrição: R$ 240\,00 \n>>  VAGAS ESGOTADAS – PREENCHA A LISTA DE ESPERA E CASO SURJAM NOVAS VAGAS ENTRAREMOS EM CONTATO<< \nOrganização: Instituto Sola Gratia | Vale Estreito | PIB Londrina | Editora Vale Estreito. \nhttps://youtu.be/7UtfEW33Eys
URL:https://www.solagratia.com.br/evento/congresso-do-novo-nascimento-2025/
LOCATION:Acampamento Canaã\, Rod. Mabio Gonçalves Palhano\, S/n - Gleba Palhano\, Londrina\, Paraná\, 86055-585\, Brasil
CATEGORIES:Eventos
ATTACH;FMTTYPE=image/png:https://www.solagratia.com.br/wp-content/uploads/2024/11/NOVO-NASCIMENTO-2025.png
ORGANIZER;CN="Instituto Sola Gratia":MAILTO:contato@solagratia.com.br
END:VEVENT
BEGIN:VEVENT
DTSTART;TZID=UTC:20240910T080000
DTEND;TZID=UTC:20240913T090000
DTSTAMP:20260423T155058
CREATED:20240503T234702Z
LAST-MODIFIED:20240504T031135Z
UID:24479-1725955200-1726218000@www.solagratia.com.br
SUMMARY:CONGRESSO LITERATURA COM PROPÓSITO 2024
DESCRIPTION:DATA: 10 a 13 de Setembro de 2024\n           Início: 10/09 – Jantar\n           Término: 13/09 – Café da Manhã \nTEMA:  A Sã Doutrina\n \nPRELETOR: Glenio Fonseca Paranaguá\nLocal: Acampamento Canaã (Londrina – PR)\n(135 Vagas) \nVALOR DA INSCRIÇÃO: R$ 200\,00\nAs inscrições e o pagamento podem ser feitas até o dia 02/09. \nCLIQUE AQUI PARA SE INSCREVER \nOBSERVAÇÃO:\n– CADA INSCRITO RECEBERÁ UM EXEMPLAR DO LIVRO A SALVAÇÃO DE A a Z\, PARA PODER LÊ-LO ANTES DO EVENTO.\n\nMais Informações: (43) 99184-1208 (WhatsApp)
URL:https://www.solagratia.com.br/evento/congresso-literatura-com-proposito-2024/
CATEGORIES:Eventos
ATTACH;FMTTYPE=image/png:https://www.solagratia.com.br/wp-content/uploads/2024/05/LITERATURA-COM-PROPOSITO-2024.png
END:VEVENT
BEGIN:VEVENT
DTSTART;TZID=UTC:20240726T080000
DTEND;TZID=UTC:20240728T230000
DTSTAMP:20260423T155058
CREATED:20240503T234135Z
LAST-MODIFIED:20240504T000550Z
UID:24474-1721980800-1722207600@www.solagratia.com.br
SUMMARY:CONGRESSO DO NOVO NASCIMENTO EM CAUCAIA
DESCRIPTION:Congresso do Novo Nascimento em Caucaia-CE \nUnidos pela Cruz de Cristo!\nE pela cruz reconciliar com Deus a ambos em um corpo\, matando nela as inimizades.\nEfesios 2:16 \nDe 26 a 28 de julho de 2024\nPreletor: Glenio Paranaguá \nRealização:\n1ª Igreja Batista da Graça em Caucaia-CE \nMais Informações: (85) 99161-2229
URL:https://www.solagratia.com.br/evento/congresso-do-novo-nascimento-em-caucaia/
ATTACH;FMTTYPE=image/png:https://www.solagratia.com.br/wp-content/uploads/2024/05/Congresso-novo-nascimento-caucaia-banner.png
END:VEVENT
BEGIN:VEVENT
DTSTART;TZID=UTC:20231021T080000
DTEND;TZID=UTC:20231021T170000
DTSTAMP:20260423T155058
CREATED:20231023T141243Z
LAST-MODIFIED:20231121T143934Z
UID:24335-1697875200-1697907600@www.solagratia.com.br
SUMMARY:CONGRESSO DO NOVO NASCIMENTO 2024
DESCRIPTION:CONGRESSO DO NOVO NASCIMENTO 2024\nDos dias 26 a 28 de Janeiro de 2024 \nPreletor: Pr. Glenio Paranaguá \nValor das Inscrição: R$ 260\,00 \n>> INSCRIÇÕES ESGOTADAS – CLIQUE PARA ENTRAR NA LISTA DE ESPERA << \nOrganização: Instituto Sola Gratia | Vale Estreito | PIB Londrina | Editora Vale Estreito .
URL:https://www.solagratia.com.br/evento/congresso-do-novo-nascimento-2024/
LOCATION:Acampamento Canaã\, Rod. Mabio Gonçalves Palhano\, S/n - Gleba Palhano\, Londrina\, Paraná\, 86055-585\, Brasil
CATEGORIES:Eventos
ATTACH;FMTTYPE=image/png:https://www.solagratia.com.br/wp-content/uploads/2023/11/Congresso-Novo-Nascimento-2024.png
ORGANIZER;CN="Instituto Sola Gratia":MAILTO:contato@solagratia.com.br
END:VEVENT
BEGIN:VEVENT
DTSTART;VALUE=DATE:20231010
DTEND;VALUE=DATE:20231014
DTSTAMP:20260423T155058
CREATED:20230625T021718Z
LAST-MODIFIED:20230831T144723Z
UID:24234-1696896000-1697241599@www.solagratia.com.br
SUMMARY:III CONGRESSO LITERATURA COM PROPÓSITO
DESCRIPTION:III CONGRESSO LITERATURA COM PROPÓSITO\nDos dias 10 a 13 de outubro de 2023 \nTema: O Evangelho das Insondáveis Riquezas de Cristo.\nPreletor: Pr. Glenio Paranaguá \nValor das Inscrições:\nR$ 170\,00 para Pastores\, missionários e avangelistas.\nR$ 220\,00 para demais participantes. \n>> Clique aqui e inscreva-se! << \nOrganização: Instituto Sola Gratia | Vale Estreito | PIB Londrina | Editora Vale Estreito .
URL:https://www.solagratia.com.br/evento/concerto-musical-com-fernandinho-em-londrina/
LOCATION:Acampamento Canaã\, Rod. Mabio Gonçalves Palhano\, S/n - Gleba Palhano\, Londrina\, Paraná\, 86055-585\, Brasil
CATEGORIES:Eventos
ATTACH;FMTTYPE=image/png:https://www.solagratia.com.br/wp-content/uploads/2023/06/III-Congresso-Literatura-com-Proposito-6.png
ORGANIZER;CN="Instituto Sola Gratia":MAILTO:contato@solagratia.com.br
END:VEVENT
END:VCALENDAR